BEGIN:VCALENDAR
VERSION:2.0
PRODID:-//wp-events-plugin.com//7.2.3.1//EN
TZID:America/New_York
X-WR-TIMEZONE:America/New_York
BEGIN:VEVENT
UID:547@handson.org
DTSTART;TZID=America/New_York:20241112T190000
DTEND;TZID=America/New_York:20241112T190000
DTSTAMP:20241029T203627Z
URL:https://www.handson.org/events/yellow-face-2/
SUMMARY:Yellow Face
DESCRIPTION:ORDER FORM\n\nAdditional interpreted performance on November 9t
 h - info here.\nTony Award® winner and three-time Pulitzer finalist David
  Henry Hwang (M. Butterfly) will make his Roundabout debut with the Broadw
 ay premiere of Yellow Face\, his hilarious is-he-or-isn’t-he comedy of i
 dentity\, show business\, and (perhaps) autobiography. Starring Daniel Dae
  Kim (Lost) and directed by Tony nominee Leigh Silverman (Violet).&nbsp\;\
 nInspired by real events\, the playwright’s fictionalized doppelgänger 
 protests yellowface casting in Miss Saigon\, only to mistakenly cast a whi
 te actor as the Asian lead in his own play. This Obie Award-winning and Pu
 litzer finalist play is a laugh-out-loud farce about the complexities of r
 ace.&nbsp\;
ATTACH;FMTTYPE=image/jpeg:https://www.handson.org/wp-content/uploads/2024/
 08/image-4.jpeg
CATEGORIES:_Hands On Shows,Roundabout Theatre Company
LOCATION:Roundabout Theatre Company\, 227 West 42nd Street\, New York\, Uni
 ted States
X-APPLE-STRUCTURED-LOCATION;VALUE=URI;X-ADDRESS=227 West 42nd Street\, New 
 York\, United States;X-APPLE-RADIUS=100;X-TITLE=Roundabout Theatre Company
 :geo:0,0
END:VEVENT
BEGIN:VTIMEZONE
TZID:America/New_York
X-LIC-LOCATION:America/New_York
BEGIN:STANDARD
DTSTART:20241103T010000
TZOFFSETFROM:-0400
TZOFFSETTO:-0500
TZNAME:EST
END:STANDARD
END:VTIMEZONE
END:VCALENDAR