BEGIN:VCALENDAR
VERSION:2.0
PRODID:-//wp-events-plugin.com//7.2.3.1//EN
TZID:America/New_York
X-WR-TIMEZONE:America/New_York
BEGIN:VEVENT
UID:652@handson.org
DTSTART;TZID=America/New_York:20250403T180000
DTEND;TZID=America/New_York:20250403T180000
DTSTAMP:20250319T163819Z
URL:https://www.handson.org/events/virtual-crip-movement-lab-with-reelabil
 ities/
SUMMARY:Virtual: Crip Movement Lab with ReelAbilities
DESCRIPTION:\n\n\n\nClick here for more information.\n\n\n\nCrip Movement L
 ab—co-created by Disabled dancers Kayla Hamilton and Elisabeth Motley—
 is a movement workshop for all disabled people and their non-disabled acco
 mplices\, including and not limited to those that identify as D/disabled\,
  blind\, low vision\, sight impaired\, neurodivergent\, D/deaf\, hard of h
 earing\, Sick\, chronically ill\, crip\, or Mad. In this online community 
 dance workshop\, we will reach toward the liberatory pathways found in imp
 rovisational dance and the crip pride found in processes of creating from 
 disability knowledge. Those with and without movement experience are welco
 me!\n\n\n\n
ATTACH;FMTTYPE=image/jpeg:https://www.handson.org/wp-content/uploads/2025/
 03/Screen-Shot-2025-03-19-at-9.37.26-AM.png
CATEGORIES:Lincoln Center
LOCATION:Virtual Event\, Zoom\, Provided upon registration\, United States
X-APPLE-STRUCTURED-LOCATION;VALUE=URI;X-ADDRESS=Zoom\, Provided upon regist
 ration\, United States;X-APPLE-RADIUS=100;X-TITLE=Virtual Event:geo:0,0
END:VEVENT
BEGIN:VTIMEZONE
TZID:America/New_York
X-LIC-LOCATION:America/New_York
BEGIN:DAYLIGHT
DTSTART:20250309T030000
TZOFFSETFROM:-0500
TZOFFSETTO:-0400
TZNAME:EDT
END:DAYLIGHT
END:VTIMEZONE
END:VCALENDAR