BEGIN:VCALENDAR
VERSION:2.0
PRODID:-//wp-events-plugin.com//7.2.3.1//EN
TZID:America/New_York
X-WR-TIMEZONE:America/New_York
BEGIN:VEVENT
UID:668@handson.org
DTSTART;TZID=America/New_York:20250823T200000
DTEND;TZID=America/New_York:20250823T200000
DTSTAMP:20250816T023956Z
URL:https://www.handson.org/events/twelfth-night/
SUMMARY:Twelfth Night
DESCRIPTION:\nSold Out\nTo join the waitlist for this performance\, please 
 email info@handson.org\n\n\n\nFree Shakespeare in the Park\nTWELFTH NIGHT\
 nBy William Shakespeare  \nDirected by Saheem Ali \n\n\nJoin us to reve
 l in the midsummer madness as twins Sebastian and Viola survive shipwreck\
 , revenge plots\, and the trick doors of love. The Public’s Associate Ar
 tistic Director and Resident Director\, Tony Award nominee Saheem Ali dire
 cts this joyful romp welcoming all of New York back to the magic of Centra
 l Park’s beloved theater.\n\nAfter 62 years as the home of Free Shakespe
 are in the Park\, The Delacorte Theater was due for a major makeover. When
  the theater makes its triumphant this summer with TWELFTH NIGHT\, it wil
 l be more welcoming\, more accessible\, and more sustainable than ever bef
 ore. Learn more about the revitalization here!\n\nFree Shakespeare in the
  Park is part of The Public’s annual summer celebration of Shakespeare
  for the City. Free. For All. Forever.\n\nInterpreters: Dylan Geil\, Jina 
 Porter\, Justine Rivera\, Lynnette Taylor\nDirector of Interpreters: Shira
  Grabelsky
ATTACH;FMTTYPE=image/jpeg:https://www.handson.org/wp-content/uploads/2025/
 05/image-1.jpeg
CATEGORIES:_Hands On Shows,The Public Theater
LOCATION:The Delacorte Theater\, 81 Central Park West\, New York\, NY\, Uni
 ted States
X-APPLE-STRUCTURED-LOCATION;VALUE=URI;X-ADDRESS=81 Central Park West\, New 
 York\, NY\, United States;X-APPLE-RADIUS=100;X-TITLE=The Delacorte Theater
 :geo:0,0
END:VEVENT
BEGIN:VTIMEZONE
TZID:America/New_York
X-LIC-LOCATION:America/New_York
BEGIN:DAYLIGHT
DTSTART:20250309T030000
TZOFFSETFROM:-0500
TZOFFSETTO:-0400
TZNAME:EDT
END:DAYLIGHT
END:VTIMEZONE
END:VCALENDAR