BEGIN:VCALENDAR
VERSION:2.0
PRODID:-//wp-events-plugin.com//7.2.3.1//EN
TZID:America/New_York
X-WR-TIMEZONE:America/New_York
BEGIN:VEVENT
UID:185@handson.org
DTSTART;TZID=America/New_York:20221209T193000
DTEND;TZID=America/New_York:20221209T193000
DTSTAMP:20230801T134134Z
URL:https://www.handson.org/events/the-other-side-of-the-stars-isabel-leon
 ard-and-pablo-sainz-villegas/
SUMMARY:The Other Side of the Stars: Isabel Leonard and Pablo Sainz-Villega
 s
DESCRIPTION:Alice Tully Hall: Starr Theater\, Adrienne Arsht Stage\n\n\n\nT
 ime: 7:30 PM\n\nTickets: Purchase here. \n\nPresented by Lincoln Center f
 or the Performing Arts in collaboration with The Metropolitan Opera.\n\nFo
 r almost 140 years\, earning a place on stage at The Metropolitan Opera ha
 s stood as the pinnacle of any opera singer’s career. The Other Side of
  the Stars spotlights the depth and diversity of The Met’s stellar rost
 er of soloists as they explore fresh methods of musical expression. This n
 ew genre-blind series opens with a concert from Grammy Award-winning mezzo
 -soprano Isabel Leonard\, recently featured in The Met's Cinderella\, alo
 ngside the classical guitarist Pablo Sáinz-Villegas\, who Billboard calls
  “the soul of the Spanish guitar.” The duo performs an intimate recita
 l featuring operatic favorites paired with Argentinian folk songs\, and po
 pular Spanish songs.\n\nClosed Captioning available.\n\nIf you have any qu
 estions about this event\, please contact Guest Experience at 212-875-545
 6 or guestexperience@lincolncenter.org.
ATTACH;FMTTYPE=image/jpeg:https://www.handson.org/wp-content/uploads/2022/
 11/Screen-Shot-2022-11-30-at-11.08.18-AM.png
CATEGORIES:Lincoln Center
LOCATION:Lincoln Center\, Lincoln Center Plaza\, New York\, NY\, United Sta
 tes
X-APPLE-STRUCTURED-LOCATION;VALUE=URI;X-ADDRESS=Lincoln Center Plaza\, New 
 York\, NY\, United States;X-APPLE-RADIUS=100;X-TITLE=Lincoln Center:geo:0,
 0
END:VEVENT
BEGIN:VTIMEZONE
TZID:America/New_York
X-LIC-LOCATION:America/New_York
BEGIN:STANDARD
DTSTART:20221106T010000
TZOFFSETFROM:-0400
TZOFFSETTO:-0500
TZNAME:EST
END:STANDARD
END:VTIMEZONE
END:VCALENDAR