BEGIN:VCALENDAR
VERSION:2.0
PRODID:-//wp-events-plugin.com//7.2.3.1//EN
TZID:America/New_York
X-WR-TIMEZONE:America/New_York
BEGIN:VEVENT
UID:570@handson.org
DTSTART;TZID=America/New_York:20241025T193000
DTEND;TZID=America/New_York:20241025T193000
DTSTAMP:20240905T232805Z
URL:https://www.handson.org/events/the-lovestruck-balladeers/
SUMMARY:The Lovestruck Balladeers
DESCRIPTION:There are three ways to access this free event:1. General Admi
 ssion\, first-come first-served. Just show up!2. Fast Track\, opening the
  Monday before the event at noon.3. The performance will be streamed live 
 for free on this web page.\n\n\n\nThe Lovestruck Balladeers enchant audien
 ces with their masterful performances and inspired repertoire of ragtime\,
  jazz\, and beautiful songs from around the world. They might whip out a l
 ost melody from a forgotten mandolin folio\, or they might play a Mexican 
 waltz. They might push into a renegade rearrangement of a swing standard o
 r get down with a country rag. Their repertoire is a rare collection of Am
 erican and international music seldom heard beyond the walls of low-lit da
 nce halls at the edge of the known world.
ATTACH;FMTTYPE=image/jpeg:https://www.handson.org/wp-content/uploads/2024/
 09/image-7.jpeg
CATEGORIES:Lincoln Center
LOCATION:David Rubenstein Atrium at Lincoln Center\, 61 W 62nd St\, New Yor
 k\, NY\, United States
X-APPLE-STRUCTURED-LOCATION;VALUE=URI;X-ADDRESS=61 W 62nd St\, New York\, N
 Y\, United States;X-APPLE-RADIUS=100;X-TITLE=David Rubenstein Atrium at Li
 ncoln Center:geo:0,0
END:VEVENT
BEGIN:VTIMEZONE
TZID:America/New_York
X-LIC-LOCATION:America/New_York
BEGIN:DAYLIGHT
DTSTART:20240310T030000
TZOFFSETFROM:-0500
TZOFFSETTO:-0400
TZNAME:EDT
END:DAYLIGHT
END:VTIMEZONE
END:VCALENDAR