BEGIN:VCALENDAR
VERSION:2.0
PRODID:-//wp-events-plugin.com//7.2.3.1//EN
TZID:America/New_York
X-WR-TIMEZONE:America/New_York
BEGIN:VEVENT
UID:589@handson.org
DTSTART;TZID=America/New_York:20250629T190000
DTEND;TZID=America/New_York:20250629T190000
DTSTAMP:20241002T215152Z
URL:https://www.handson.org/events/the-little-mermaid/
SUMMARY:The Little Mermaid
DESCRIPTION:Purchase Tickets\n\n\n\nIn a magical kingdom beneath the sea\, 
 the young mermaid Ariel longs to leave her ocean home to live in the world
  above. Based on one of the world's most beloved stories and the enchantin
 g Disney animated film\, The Little Mermaid is equal parts love story an
 d adventure for the whole family to enjoy. This fishy fable boasts such ir
 resistible songs as "Part of Your World\," "Kiss the Girl\," and the Acade
 my Award–winning "Under the Sea\," along with a colorful cast of charact
 ers including Flounder the fish\, Scuttle the seagull\, Ursula the sea wit
 ch\, and Sebastian the crab.
ATTACH;FMTTYPE=image/jpeg:https://www.handson.org/wp-content/uploads/2024/
 10/image-4.jpeg
LOCATION:Paper Mill Playhouse\, 22 Brookside Drive\, Millburn\, NJ\, United
  States
X-APPLE-STRUCTURED-LOCATION;VALUE=URI;X-ADDRESS=22 Brookside Drive\, Millbu
 rn\, NJ\, United States;X-APPLE-RADIUS=100;X-TITLE=Paper Mill Playhouse:ge
 o:0,0
END:VEVENT
BEGIN:VTIMEZONE
TZID:America/New_York
X-LIC-LOCATION:America/New_York
BEGIN:DAYLIGHT
DTSTART:20250309T030000
TZOFFSETFROM:-0500
TZOFFSETTO:-0400
TZNAME:EDT
END:DAYLIGHT
END:VTIMEZONE
END:VCALENDAR