BEGIN:VCALENDAR
VERSION:2.0
PRODID:-//wp-events-plugin.com//7.2.3.1//EN
TZID:America/New_York
X-WR-TIMEZONE:America/New_York
BEGIN:VEVENT
UID:572@handson.org
DTSTART;TZID=America/New_York:20241107T193000
DTEND;TZID=America/New_York:20241107T193000
DTSTAMP:20240905T233527Z
URL:https://www.handson.org/events/the-flat-earth-society-orchestra/
SUMMARY:The Flat Earth Society Orchestra
DESCRIPTION:There are three ways to access this free event:1. General Admi
 ssion\, first-come first-served. Just show up!2. Fast Track\, opening the
  Monday before the event at noon.3. The performance will be streamed live 
 for free on this web page.\n\n\n\nThe Flat Earth Society Orchestra (FES) m
 ixes the rich Northwest European brass band tradition with oddball topsy-t
 urvy creativity. Taking Belgian whimsy to a logical\, irresistible extreme
 \, FES straddles the border between multi-color surrealism and savvy skill
 . Composer\, reed player\, producer\, and bandleader Peter Vermeersch\, co
 -piloted by pianist and composer Peter Vandenberghe\, have shaped their 15
 -piece orchestra into one of the most productive and thrilling bands of it
 s kind. While Flat Earth Society’s compositions and arrangements betray 
 20th century traditions—from jazz to rock\, exotica and contemporary mus
 ic—they embody a decidedly forward-looking 21st century spirit. Quick-wi
 tted\, effortlessly eccentric and always on the lookout for new challenges
 \, Flat Earth Society is that rare beast: a constantly evolving orchestra 
 that is most in its natural environment at a live show. This performance o
 f the Flat Earth Society celebrates the Atrium’s 15-year anniversary in 
 tandem with the band’s 25th—a happy reunion after FES’s previous per
 formance in the Atrium in 2011. \n\n
ATTACH;FMTTYPE=image/jpeg:https://www.handson.org/wp-content/uploads/2024/
 09/image-9.jpeg
CATEGORIES:Lincoln Center
LOCATION:David Rubenstein Atrium at Lincoln Center\, 61 W 62nd St\, New Yor
 k\, NY\, United States
X-APPLE-STRUCTURED-LOCATION;VALUE=URI;X-ADDRESS=61 W 62nd St\, New York\, N
 Y\, United States;X-APPLE-RADIUS=100;X-TITLE=David Rubenstein Atrium at Li
 ncoln Center:geo:0,0
END:VEVENT
BEGIN:VTIMEZONE
TZID:America/New_York
X-LIC-LOCATION:America/New_York
BEGIN:STANDARD
DTSTART:20241103T010000
TZOFFSETFROM:-0400
TZOFFSETTO:-0500
TZNAME:EST
END:STANDARD
END:VTIMEZONE
END:VCALENDAR