BEGIN:VCALENDAR
VERSION:2.0
PRODID:-//wp-events-plugin.com//7.2.3.1//EN
TZID:America/New_York
X-WR-TIMEZONE:America/New_York
BEGIN:VEVENT
UID:459@handson.org
DTSTART;TZID=America/New_York:20240417T190000
DTEND;TZID=America/New_York:20240417T190000
DTSTAMP:20240129T180411Z
URL:https://www.handson.org/events/tdf-oc-and-interpreted-shows-6/
SUMMARY:TDF - OC and Interpreted Shows
DESCRIPTION:Tickets for these performances are available for purchase with 
 a TAP membership. For questions about joining TAP or acquiring tickets\, p
 lease email TAP@TDF.ORG.\n\n\nThese shows are sponsored by TDF:\nPrayer fo
 r the French Republic (OC) Saturday\, February 3 @ 2pm\, Samuel J. Friedma
 n Theatre\nSpamalot (OC) Tuesday\, February 6 @ 7pm\, St. James Theatre\nT
 he Ally (OC) Saturday\, March 2 @ 1pm\, The Public Theatre\nBrooklyn Laund
 ry (OC) Saturday\, March 16 @ 2pm\, NY City Center Stage I\nDoubt (OC) Thu
 rsday\, April 4 @ 7pm\, American Airlines Theatre\nMerrily We Roll Along (
 OC) Wednesday\, April 17 @7pm\, Hudson Theatre\nSally &amp\; Tom (OC) Satu
 rday\, April 20 @ 1pm\, The Public Theatre\nThese shows are not sponsored 
 by TDF\, but tickets sold through TAP:\nJelly’s Last Jam (ASL) Thursday\
 , February 29 @ 7:30pm\, NY City Center
ATTACH;FMTTYPE=image/jpeg:https://www.handson.org/wp-content/uploads/2024/
 01/image-11.jpeg
END:VEVENT
BEGIN:VTIMEZONE
TZID:America/New_York
X-LIC-LOCATION:America/New_York
BEGIN:DAYLIGHT
DTSTART:20240310T030000
TZOFFSETFROM:-0500
TZOFFSETTO:-0400
TZNAME:EDT
END:DAYLIGHT
END:VTIMEZONE
END:VCALENDAR