BEGIN:VCALENDAR
VERSION:2.0
PRODID:-//wp-events-plugin.com//7.2.3.1//EN
TZID:America/New_York
X-WR-TIMEZONE:America/New_York
BEGIN:VEVENT
UID:374@handson.org
DTSTART;TZID=America/New_York:20230915T193000
DTEND;TZID=America/New_York:20230915T193000
DTSTAMP:20230904T023642Z
URL:https://www.handson.org/events/queensboro-dance-festival-season-finale
 -2023/
SUMMARY:Queensboro Dance Festival Season Finale 2023
DESCRIPTION:Click HERE for tickets. $27 each ($25 ticket + $2 service fee).
  All three nights for $66 ($60 tickets + $6 service fees). 10% Student/S
 enior discount available. Postal delivery is an additional $5 fee.\n\nAll
  performances will offer ASL Interpretation and Open Captions.\n\n\n\nIn t
 he Claire Shulman Theater.\n\nRuntime: approximately 70 minutes\, no inter
 mission\nRecommended ages: All ages welcome\n\nSaturday\, September 16\, 5
 :00pm: Pre-Show Gala Dinner and "Dancing with the Queens Stars" Entertainm
 ent. Separate ticket required\, which includes premium seats for the 7:30 
 performance - on sale August 10\, 2023.\n\nQueens Theatre is proud to agai
 n co-present the Season Finale of the Queensboro Dance Festival\, celebrat
 ing its 10th anniversary season! After a summer of touring across parks\, 
 plazas\, and streets throughout Queens\, the Festival will culminate on th
 e Queens Theatre stage in a 3-night finale where audiences can experience 
 the exciting cultures of Queens through 25 professional Queens-based dance
  companies. Dance the World's Borough in one weekend!\n\nWith a different 
 show every night\, this unique lineup of Queens talents are truly the hidd
 en gems of the borough\; this is a weekend not to be missed! Dance culture
 s represented include Bolivian Caporales\, tap dance\, Kathak\, hip-hop\, 
 Odissi\, modern\, Ecuadorian\, ballet\, Yosakoi Japanese dance\, street ja
 zz\, belly dance\, NY salsa\, Mexican\, Afro-Caribbean\, house\, Soca\, Fl
 amenco\, and Southern Filipino\, all hailing from different neighborhoods 
 in Queens.
ATTACH;FMTTYPE=image/jpeg:https://www.handson.org/wp-content/uploads/2023/
 09/QDF-Photo-Credit-John-Casem-scaled-circle.jpg
LOCATION:Queens Theatre\, 14 United Nations Ave South\, Queens\, NY\, Unite
 d States
X-APPLE-STRUCTURED-LOCATION;VALUE=URI;X-ADDRESS=14 United Nations Ave South
 \, Queens\, NY\, United States;X-APPLE-RADIUS=100;X-TITLE=Queens Theatre:g
 eo:0,0
END:VEVENT
BEGIN:VTIMEZONE
TZID:America/New_York
X-LIC-LOCATION:America/New_York
BEGIN:DAYLIGHT
DTSTART:20230312T030000
TZOFFSETFROM:-0500
TZOFFSETTO:-0400
TZNAME:EDT
END:DAYLIGHT
END:VTIMEZONE
END:VCALENDAR