BEGIN:VCALENDAR
VERSION:2.0
PRODID:-//wp-events-plugin.com//7.2.3.1//EN
TZID:America/New_York
X-WR-TIMEZONE:America/New_York
BEGIN:VEVENT
UID:552@handson.org
DTSTART;TZID=America/New_York:20241026T110000
DTEND;TZID=America/New_York:20241026T110000
DTSTAMP:20241010T160732Z
URL:https://www.handson.org/events/princess-the-pea/
SUMMARY:Princess & the Pea
DESCRIPTION:ORDER FORM\n\n\nTumble\, toss and turn the page in this nimble 
 twist on Hans Christian Andersen’s timeless tale. Disheveled from a rain
 storm and forced to prove herself to her faithful servants\, a pampered pr
 incess learns a lesson in humility—with the help of one pesky pea! A mar
 vel of mattress-springing acrobatics and physical comedy\, The Princess an
 d the Pea leaps to life with queen-sized charm and nary a word. For ages 4
  – 7
ATTACH;FMTTYPE=image/jpeg:https://www.handson.org/wp-content/uploads/2024/
 08/image-2.png
CATEGORIES:_Hands On Shows,The New Victory Theater
LOCATION:The New Victory Theater\, 209 West 42nd Street\, New York\, NY\, 1
 0036\, United States
X-APPLE-STRUCTURED-LOCATION;VALUE=URI;X-ADDRESS=209 West 42nd Street\, New 
 York\, NY\, 10036\, United States;X-APPLE-RADIUS=100;X-TITLE=The New Victo
 ry Theater:geo:0,0
END:VEVENT
BEGIN:VTIMEZONE
TZID:America/New_York
X-LIC-LOCATION:America/New_York
BEGIN:DAYLIGHT
DTSTART:20240310T030000
TZOFFSETFROM:-0500
TZOFFSETTO:-0400
TZNAME:EDT
END:DAYLIGHT
END:VTIMEZONE
END:VCALENDAR