BEGIN:VCALENDAR
VERSION:2.0
PRODID:-//wp-events-plugin.com//7.2.3.1//EN
TZID:America/New_York
X-WR-TIMEZONE:America/New_York
BEGIN:VEVENT
UID:270@handson.org
DTSTART;TZID=America/New_York:20230603T193000
DTEND;TZID=America/New_York:20230603T193000
DTSTAMP:20230801T141644Z
URL:https://www.handson.org/events/pericles/
SUMMARY:Pericles
DESCRIPTION:Please click HERE to fill out the form to request free tickets.
 \n\n\n\n\nA workshop reading of an epic musical adaptation celebrating har
 d-won joy.\n\nIn its second year in residency at The Shed\, The Fire Ense
 mble\, led by artistic director Troy Anthony\, presents a workshop reading
  of Anthony’s new musical adaptation of Shakespeare’s Pericles. Anthon
 y combines influences from Black musical traditions including gospel and R
 &amp\;B with Shakespearean verse to offer an updated take on shipwrecks\, 
 pirates\, jousting tournaments\, and epic journeys in the first public sha
 ring of this work. Continuing The Fire Ensemble’s collective approach th
 at centers intergenerational BIPOC communities\, Pericles explores themes 
 of grief and hard-won joy.\n\nOriginally commissioned and developed by The
  Public Theater\, Oskar Eustis\, Artistic Director\, Patrick Willingham\, 
 Executive Director.\n\nCreative Team:\n\nTroy Anthony\, Music and Lyrics\n
 \nTorya Beard\, Director\n\nGabriel Silva\, Director of Artistic Sign Lang
 uage\n\nProduction Credits:\n\nAmrita Ramanan\, Dramaturg\nAva Tiye\, Spir
 itual Dramaturg\nAtiya Taylor\, Assistant Director\nErin McCoy\, Stage Man
 ager\nYou-Shin Chen\, Stage Design Consultant\nChris Darbassie\, Sound Des
 ign Consultant\nCarllee James\, Dresden Lamar\, Jess Ames\,  ASL Interpre
 ters\n\n\n
ATTACH;FMTTYPE=image/jpeg:https://www.handson.org/wp-content/uploads/2023/
 05/22_FIRE_ENSEMBLE_HCard2-1.jpg
LOCATION:The Shed\, 545 West 30th Street\, New York\, NY\, United States
X-APPLE-STRUCTURED-LOCATION;VALUE=URI;X-ADDRESS=545 West 30th Street\, New 
 York\, NY\, United States;X-APPLE-RADIUS=100;X-TITLE=The Shed:geo:0,0
END:VEVENT
BEGIN:VTIMEZONE
TZID:America/New_York
X-LIC-LOCATION:America/New_York
BEGIN:DAYLIGHT
DTSTART:20230312T030000
TZOFFSETFROM:-0500
TZOFFSETTO:-0400
TZNAME:EDT
END:DAYLIGHT
END:VTIMEZONE
END:VCALENDAR