BEGIN:VCALENDAR
VERSION:2.0
PRODID:-//wp-events-plugin.com//7.2.3.1//EN
TZID:America/New_York
X-WR-TIMEZONE:America/New_York
BEGIN:VEVENT
UID:382@handson.org
DTSTART;TZID=America/New_York:20231014T110000
DTEND;TZID=America/New_York:20231014T110000
DTSTAMP:20230908T172337Z
URL:https://www.handson.org/events/new-york-city-ballet-family-saturdays/
SUMMARY:New York City Ballet - Family Saturdays
DESCRIPTION:\n\n\nPriority seating for American Sign Language Interpretatio
 n is available for all Family Saturdays presentations. All seats are subje
 ct to availability. Tickets can be purchased here or by calling 212-496-0
 600.\nOrchestra and First Ring / $38 per person\nSecond through Fourth Rin
 g / $25 per person\nPlease note that tickets are required for infants\, ch
 ildren\, and adults.\n\n\n\n\n\nDATES AND TIMES\n\n\nSaturday\, October 14
  at 11:00 am\nSaturday\, March 2 at 11:00 am\nSaturday\, June 1 at 11:00 a
 m\nFAMILY SATURDAYS\n\nJoin us for these exciting one-hour interactive pre
 sentations featuring excerpts from New York City Ballet's diverse repertor
 y performed by Company dancers and members of the NYCB Orchestra. Megan F
 airchild\, Principal Dancer and Family Saturdays Creative Director\, hosts
  the programs\, offering insight on choreography\, music\, and dancers. Fa
 mily Saturdays are the perfect introduction to NYCB and the world of class
 ical dance! \n\n\nOctober 14\, 2023\n\nHAPPY BIRTHDAY NYCB\nYou are cordi
 ally invited to New York City Ballet's birthday party as we celebrate the 
 Company's 75th Anniversary season. In this one-hour program\, we'll take a
  look at some of the ballets that have shaped NYCB's history and learn wha
 t makes our Company so unique.\nMarch 2\, 2024\nBALLET BY THE NUMBERS\nFro
 m the three playful sailors in Fancy Free to the six waltzing ballerinas o
 f The Concert\, there are unlimited ways to discover numbers at the ballet
 . Join us as we count our way through the world of New York City Ballet fr
 om one to ten and everything in between.\nJune 1\, 2024\nA MAGICAL MIDSUMM
 ER\nFeuding fairy kingdoms\, quarreling couples\, and a troupe of bumbling
  actors become entangled in a magical forest and at the center of it all: 
 a mischievous elf named Puck. Come along as we explore George Balanchine's
  beloved ballet inspired by Shakespeare's A Midsummer Night's Dream.\n\n
ATTACH;FMTTYPE=image/jpeg:https://www.handson.org/wp-content/uploads/2023/
 09/Family-Saturdays-Key-Art-scaled.webp
LOCATION:David H. Koch Theater\, West 63rd Street and Columbus Avenue\, New
  York\, NY\, United States
X-APPLE-STRUCTURED-LOCATION;VALUE=URI;X-ADDRESS=West 63rd Street and Columb
 us Avenue\, New York\, NY\, United States;X-APPLE-RADIUS=100;X-TITLE=David
  H. Koch Theater:geo:0,0
END:VEVENT
BEGIN:VTIMEZONE
TZID:America/New_York
X-LIC-LOCATION:America/New_York
BEGIN:DAYLIGHT
DTSTART:20230312T030000
TZOFFSETFROM:-0500
TZOFFSETTO:-0400
TZNAME:EDT
END:DAYLIGHT
END:VTIMEZONE
END:VCALENDAR