BEGIN:VCALENDAR
VERSION:2.0
PRODID:-//wp-events-plugin.com//7.2.3.1//EN
TZID:America/New_York
X-WR-TIMEZONE:America/New_York
BEGIN:VEVENT
UID:659@handson.org
DTSTART;TZID=America/New_York:20250417T190000
DTEND;TZID=America/New_York:20250417T190000
DTSTAMP:20250402T181952Z
URL:https://www.handson.org/events/minority-2/
SUMMARY:minor•ity
DESCRIPTION:Purchase tickets here.\n\n\n\nWritten by francisca da silveira\
 n\nDirected by Shariffa Ali\n\nDiaspora Now!\, an international African ar
 ts conference\, is celebrating its Diamond Jubilee in Paris and the panel 
 line-up this year is sure to cause a stir. Newcomer Sami Monroe\, a go-get
 ting directing prodigy from America\, joins jaded veteran painter Céza De
 pina and formerly banned storyteller\, Cheikh Malick Diallo. As they prepa
 re for each panel discussion\, generational and cultural differences lead 
 to clashes and a fierce competition emerges between the three artists. In 
 a world plagued with scarcity\, minor•ity is a powerful three-hander tha
 t interrogates Black identity\, the plurality of the African diaspora\, an
 d what it means to be a sought-after artist of color.
ATTACH;FMTTYPE=image/jpeg:https://www.handson.org/wp-content/uploads/2025/
 03/image-1.jpeg
LOCATION:WP Theater\, 2162 Broadway\, NY\, NY\, United States
X-APPLE-STRUCTURED-LOCATION;VALUE=URI;X-ADDRESS=2162 Broadway\, NY\, NY\, U
 nited States;X-APPLE-RADIUS=100;X-TITLE=WP Theater:geo:0,0
END:VEVENT
BEGIN:VTIMEZONE
TZID:America/New_York
X-LIC-LOCATION:America/New_York
BEGIN:DAYLIGHT
DTSTART:20250309T030000
TZOFFSETFROM:-0500
TZOFFSETTO:-0400
TZNAME:EDT
END:DAYLIGHT
END:VTIMEZONE
END:VCALENDAR