BEGIN:VCALENDAR
VERSION:2.0
PRODID:-//wp-events-plugin.com//7.2.3.1//EN
TZID:America/New_York
X-WR-TIMEZONE:America/New_York
BEGIN:VEVENT
UID:714@handson.org
DTSTART;TZID=America/New_York:20250913T140000
DTEND;TZID=America/New_York:20250913T170000
DTSTAMP:20250902T143015Z
URL:https://www.handson.org/events/met-signs-in-the-studio-2/
SUMMARY:Met Signs in the Studio
DESCRIPTION:Free\, though advance registration is required. Space is limite
 d. Register here.\n\nIn American Sign Language only\, without voice interp
 retation. Programs with Sign Language are intended primarily for the Deaf 
 community.\n\n\n\nExplore The Met collection with teaching artists Debra C
 ole and Hollie Ecker. Then\, create your own work of art in the studio. Fo
 r visitors of all ages.\n\nPresented in celebration of the reopening of Th
 e Michael C. Rockefeller Wing\, featuring the Museum’s collections of th
 e arts of Africa\, the ancient Americas\, and Oceania.\n\nEvents and pr
 ogramming related to the reopening of The Michael C. Rockefeller Wing are 
 made possible by the Breyer Family Foundation\, the Ford Foundation\, Samu
 el and Gabrielle Lurie\, the Rockefeller Brothers Fund\, and the Thompson 
 Family Foundation. Additional support is provided by Stephen M. Cutler and
  Wendy N. Zimmermann\, Kyveli and George Economou\, Ed and Dale Mathias\, 
 the Mex-Am Cultural Foundation Inc.\, and two anonymous donors.\n\nFor upd
 ates on upcoming programs\, connect with us on Facebook or contact us at
  access@metmuseum.org.
ATTACH;FMTTYPE=image/jpeg:https://www.handson.org/wp-content/uploads/2025/
 09/image.jpeg
CATEGORIES:The Met
LOCATION:The MET\, 1000 Fifth Avenue\, New York\, NY\, United States
X-APPLE-STRUCTURED-LOCATION;VALUE=URI;X-ADDRESS=1000 Fifth Avenue\, New Yor
 k\, NY\, United States;X-APPLE-RADIUS=100;X-TITLE=The MET:geo:0,0
END:VEVENT
BEGIN:VTIMEZONE
TZID:America/New_York
X-LIC-LOCATION:America/New_York
BEGIN:DAYLIGHT
DTSTART:20250309T030000
TZOFFSETFROM:-0500
TZOFFSETTO:-0400
TZNAME:EDT
END:DAYLIGHT
END:VTIMEZONE
END:VCALENDAR