BEGIN:VCALENDAR
VERSION:2.0
PRODID:-//wp-events-plugin.com//7.2.3.1//EN
TZID:America/New_York
X-WR-TIMEZONE:America/New_York
BEGIN:VEVENT
UID:712@handson.org
DTSTART;TZID=America/New_York:20251213T170000
DTEND;TZID=America/New_York:20251213T170000
DTSTAMP:20250813T212718Z
URL:https://www.handson.org/events/merry-mayhem/
SUMMARY:Circus Oz (Merry Mayhem)
DESCRIPTION:Order Tickets Below\n\nPow! Crash! Oi! The uproar from Down Und
 er\, Circus Oz is here to unleash some Merry Mayhem on your unsuspecting f
 amily. Exploding onto the stage in a rascally rainbow of high-flying frivo
 lity\, this multi-generational\, muscle-bound ensemble tumbles\, tussles a
 nd trapezes to the beat of a live rock band! Can an archer hit her target 
 on rollerskates? Can a daredevil granny survive the Dive of Death? Can an 
 aerialist reach the ceiling in his satin gown? Embrace the holiday frenzy 
 and buckle up for a uniquely Aussie celebration of subversive circus fun.\
 n\n&nbsp\;
ATTACH;FMTTYPE=image/jpeg:https://www.handson.org/wp-content/uploads/2025/
 08/image-3.png
CATEGORIES:_Hands On Shows,The New Victory Theater
LOCATION:The New Victory Theater\, 209 West 42nd Street\, New York\, NY\, 1
 0036\, United States
X-APPLE-STRUCTURED-LOCATION;VALUE=URI;X-ADDRESS=209 West 42nd Street\, New 
 York\, NY\, 10036\, United States;X-APPLE-RADIUS=100;X-TITLE=The New Victo
 ry Theater:geo:0,0
END:VEVENT
BEGIN:VTIMEZONE
TZID:America/New_York
X-LIC-LOCATION:America/New_York
BEGIN:STANDARD
DTSTART:20251102T010000
TZOFFSETFROM:-0400
TZOFFSETTO:-0500
TZNAME:EST
END:STANDARD
END:VTIMEZONE
END:VCALENDAR