BEGIN:VCALENDAR
VERSION:2.0
PRODID:-//wp-events-plugin.com//7.2.3.1//EN
TZID:America/New_York
X-WR-TIMEZONE:America/New_York
BEGIN:VEVENT
UID:82@handson.org
DTSTART;TZID=America/New_York:20220414T171500
DTEND;TZID=America/New_York:20220414T193000
DTSTAMP:20230801T140106Z
URL:https://www.handson.org/events/interpreting-moma-greater-new-york/
SUMMARY:Interpreting MoMA: Greater New York
DESCRIPTION:\n\n\nTime: 5:15 p.m. – Check-in and social time at MoMA PS1\
 n6:00 p.m. – Tour and gallery conversation\, in the Greater New York e
 xhibition\n\n\nTickets: Space is limited and pre-registration is required.
  Register using this online form: https://momalearning.wufoo.com/forms/p1
 xydw8l0m9bjcv/\n\nJoin us for Interpreting MoMA\, our free program for Dea
 f adults\, featuring a private gallery talk with sign-language interpretat
 ion of the exhibition Greater New York at MoMA PS1\, MoMA’s contempor
 ary art affiliate in Queens.\n\nFeaturing the work of 47 artists and colle
 ctives\, the exhibition opens up geographic and historical boundaries by e
 xpanding familiar narratives around artists and art movements in New York.
  Greater New York foregrounds the resilience of artists and artist communi
 ties in the city\, while marking ways these artists have both profoundly s
 haped New York\, and borne witness to its many transformations. Voiced Eng
 lish will be interpreted into ASL.\n\n--\n\n\nYou can email us with any qu
 estions at AccessPrograms@moma.org \n\nImage Credit: Installation view o
 f Shanzhai Lyric\, Incomplete Poem (2015-ongoing) in Greater New York 2021
 . Image courtesy MoMA PS1. Photo: Noel Woodford\n\n\n
ATTACH;FMTTYPE=image/jpeg:https://www.handson.org/wp-content/uploads/2022/
 04/Greater-New-York_Noel-Woodford_2-2000x1333-1.jpg
CATEGORIES:MoMA
LOCATION:MoMA PS1\, 22-25 Jackson Avenue\, Long Island City\, Queens\, Unit
 ed States
X-APPLE-STRUCTURED-LOCATION;VALUE=URI;X-ADDRESS=22-25 Jackson Avenue\, Long
  Island City\, Queens\, United States;X-APPLE-RADIUS=100;X-TITLE=MoMA PS1:
 geo:0,0
END:VEVENT
BEGIN:VTIMEZONE
TZID:America/New_York
X-LIC-LOCATION:America/New_York
BEGIN:DAYLIGHT
DTSTART:20220313T030000
TZOFFSETFROM:-0500
TZOFFSETTO:-0400
TZNAME:EDT
END:DAYLIGHT
END:VTIMEZONE
END:VCALENDAR