BEGIN:VCALENDAR
VERSION:2.0
PRODID:-//wp-events-plugin.com//7.2.3.1//EN
TZID:America/New_York
X-WR-TIMEZONE:America/New_York
BEGIN:VEVENT
UID:370@handson.org
DTSTART;TZID=America/New_York:20231017T170000
DTEND;TZID=America/New_York:20231017T193000
DTSTAMP:20230825T190044Z
URL:https://www.handson.org/events/interpreting-moma-ed-ruscha/
SUMMARY:Interpreting MoMA: Ed Ruscha
DESCRIPTION:\nSpace is limited and pre-registration is required. Register u
 sing this online form: https://momalearning.wufoo.com/forms/xmfx8d21ex9p6i
 /\n\nYou can email us with any questions at AccessPrograms@moma.org\n\n\n
 Please join us for The Museum of Modern Art’s bimonthly program welcomin
 g individuals who are Deaf or hard of hearing to participate in an ASL–i
 nterpreted private gallery talk focusing on one of MoMA’s exhibitions\, 
 along with a wine-and-snack reception.\n\nIn October\, we will explore the
  exhibition ED RUSCHA / NOW THEN. Artist Ed Ruscha has recorded and transf
 ormed familiar subjects—whether roadside gasoline stations or the 20th C
 entury Fox logo—often revisiting motifs\, sites\, or words years later. 
 Together with chief curator Christophe Cherix\, we will trace shifts in th
 e artist’s means and methods over time in mediums including painting\, d
 rawing\, prints\, photography\, artist’s books\, film\, and installation
 —in works that make use of everything from gunpowder to chocolate.\n\n5:
 00 p.m. - Check-in at the Lauder Building staff entrance at 11 W 53rd Stre
 et\, east of the main lobby under the curved silver awning\, with wine and
  snack reception in the Hess Lounge\n\n6:00 p.m. - Tour and gallery conver
 sation with chief curator Christophe Cherix\n--\nImage Credit: Ed Ruscha. 
 Hey with Curled Edge. 1964. Ink and powdered graphite on paper\, 11 5/8 ×
  12 1/2” (29.5 × 31.8 cm). The Museum of Modern Art\, New York. Gift of
  the artist. ©️ 2023 Edward Ruscha
ATTACH;FMTTYPE=image/jpeg:https://www.handson.org/wp-content/uploads/2023/
 08/Hey-With-Curled-Edge.jpg
LOCATION:The Museum of Modern Art\, 11 W 53rd Street\, New York\, NY\, Unit
 ed States
X-APPLE-STRUCTURED-LOCATION;VALUE=URI;X-ADDRESS=11 W 53rd Street\, New York
 \, NY\, United States;X-APPLE-RADIUS=100;X-TITLE=The Museum of Modern Art:
 geo:0,0
END:VEVENT
BEGIN:VTIMEZONE
TZID:America/New_York
X-LIC-LOCATION:America/New_York
BEGIN:DAYLIGHT
DTSTART:20230312T030000
TZOFFSETFROM:-0500
TZOFFSETTO:-0400
TZNAME:EDT
END:DAYLIGHT
END:VTIMEZONE
END:VCALENDAR