BEGIN:VCALENDAR
VERSION:2.0
PRODID:-//wp-events-plugin.com//7.2.3.1//EN
TZID:America/New_York
X-WR-TIMEZONE:America/New_York
BEGIN:VEVENT
UID:231@handson.org
DTSTART;TZID=America/New_York:20230528T140000
DTEND;TZID=America/New_York:20230528T140000
DTSTAMP:20230801T141631Z
URL:https://www.handson.org/events/grey-house/
SUMMARY:Grey House
DESCRIPTION:SOLD OUT\n\n\nWhen a couple crashes their car in the mountain
 s\, they seek shelter in an isolated cabin. Its inhabitants\, though s
 omewhat unusual\, are eager to make their guests feel right at home. But
  as the blizzard outside rages on and one night turns into several\
 , the couple becomes less and less sure of what's true—about their h
 osts\, themselves\, and why that sound in the walls keeps getting lou
 der.\n\nTwo-time Tony Award® winner Laurie Metcalf (A Doll’s House\, Pa
 rt 2) stars in this first-of-its-kind Broadway experience\, alongside E
 mmy Award® winner Tatiana Maslany (Orphan Black)\, Emmy nominee Paul S
 parks (House of Cards)\, Sophia Anne Caruso (Beetlejuice) and Millice
 nt Simmonds (A Quiet Place). With direction by two-time Tony Award win
 ner Joe Mantello (The Humans\, Wicked)\, and written by Levi Holloway
 \, GREY HOUSE is a “savvy\, smart new play—that just happens to b
 e legitimately terrifying.” (Chicago Tribune).
ATTACH;FMTTYPE=image/jpeg:https://www.handson.org/wp-content/uploads/2023/
 03/image-3.jpeg
LOCATION:Lyceum Theatre\, 149 West 45th Street\, New York\, NY\, United Sta
 tes
X-APPLE-STRUCTURED-LOCATION;VALUE=URI;X-ADDRESS=149 West 45th Street\, New 
 York\, NY\, United States;X-APPLE-RADIUS=100;X-TITLE=Lyceum Theatre:geo:0,
 0
END:VEVENT
BEGIN:VTIMEZONE
TZID:America/New_York
X-LIC-LOCATION:America/New_York
BEGIN:DAYLIGHT
DTSTART:20230312T030000
TZOFFSETFROM:-0500
TZOFFSETTO:-0400
TZNAME:EDT
END:DAYLIGHT
END:VTIMEZONE
END:VCALENDAR