BEGIN:VCALENDAR
VERSION:2.0
PRODID:-//wp-events-plugin.com//7.2.3.1//EN
TZID:America/New_York
X-WR-TIMEZONE:America/New_York
BEGIN:VEVENT
UID:78@handson.org
DTSTART;TZID=America/New_York:20220402T140000
DTEND;TZID=America/New_York:20220402T140000
DTSTAMP:20230801T140022Z
URL:https://www.handson.org/events/get-up-stand-up-jazz-raptastic/
SUMMARY:Get Up\, Stand Up! Jazz Raptastic
DESCRIPTION:\n\n\n\nThe Adam Space\n\nTime: 2:00 PM - 3:00 PM\n\nTickets:&n
 bsp\;Pay-what-you-wish: $8\, $10\, $12.&nbsp\;Tickets are general admissio
 n\; select the amount that makes the most sense for you.\nBUY TICKETS\nSin
 g and dance along with Ms. Mariella and her band as they flip famous jazz 
 standards into their hip-hop babies! Jazz Music Babies offers an interacti
 ve\, joyful\, and spontaneous environment for kids to dive into one of the
  musical roots of rap. Join the group as they glide and groove through fam
 iliar tunes\, magically transforming them into hip-hop classics. For ages 
 8 and up.\n\n
ATTACH;FMTTYPE=image/jpeg:https://www.handson.org/wp-content/uploads/2022/
 03/image-8.jpeg
CATEGORIES:BAM
LOCATION:Brooklyn Academy of Music (BAM)\, 30 Lafayette Ave\, Brooklyn\, NY
 \, United States
X-APPLE-STRUCTURED-LOCATION;VALUE=URI;X-ADDRESS=30 Lafayette Ave\, Brooklyn
 \, NY\, United States;X-APPLE-RADIUS=100;X-TITLE=Brooklyn Academy of Music
  (BAM):geo:0,0
END:VEVENT
BEGIN:VTIMEZONE
TZID:America/New_York
X-LIC-LOCATION:America/New_York
BEGIN:DAYLIGHT
DTSTART:20220313T030000
TZOFFSETFROM:-0500
TZOFFSETTO:-0400
TZNAME:EDT
END:DAYLIGHT
END:VTIMEZONE
END:VCALENDAR