BEGIN:VCALENDAR
VERSION:2.0
PRODID:-//wp-events-plugin.com//7.2.3.1//EN
TZID:America/New_York
X-WR-TIMEZONE:America/New_York
BEGIN:VEVENT
UID:261@handson.org
DTSTART;TZID=America/New_York:20230525T193000
DTEND;TZID=America/New_York:20230525T193000
DTSTAMP:20230801T134233Z
URL:https://www.handson.org/events/ethan-lipton-his-orchestra/
SUMMARY:Ethan Lipton & His Orchestra
DESCRIPTION:\n\n\n\n\n\n\n\n\n\nThis event is free and open to the public. 
 Seating and entry are first-come\, first-served\; the line will form at th
 e Atrium’s entrance on Broadway\, between 62nd and 63rd Street.\nClosed 
 Captioning Available on Personal Devices via QR Code Livestream and In-Per
 son. If you have any questions about this event\, please contact Guest Exp
 erience at 212-875-5456 or guestexperience@lincolncenter.org.\n\n\n\nAt th
 e heart of the Obie Award-winning musical No Place to Go and the Lortel Aw
 ard-nominated The Outer Space\, you'll find playwright and frontman Ethan 
 Lipton with his fabulous three-piece Orchestra\, featuring Eben Levy on gu
 itar\, Ian Riggs on bass\, and Vito Dieterle on sax. The quartet\, deemed 
 NYC's "Best Lounge Act" by New York Magazine\, have been playing quirky\, 
 lyric-forward\, cabaret folk-pop with a jazz twist for over two decades. T
 he band has appeared at Celebrate Brooklyn\, MASS MOCA\, Pitchfork Paris\,
  SF Jazz\, All Tomorrow’s Parties\, and Grand Performances. They have be
 en featured on NPR ("hilarious\, twisted\, sophisticated\, schleppy and sa
 d all at once") and as performers on The Marvelous Mrs. Maisel. This perfo
 rmance marks Ethan Lipton &amp\; His Orchestra's Lincoln Center debut.Clic
 k HERE for more information.\n\n\n\n\n\n\n\n\n\n\n
ATTACH;FMTTYPE=image/jpeg:https://www.handson.org/wp-content/uploads/2023/
 05/rxdbwskgarkxhcd0gdpr.jpg
LOCATION:David Rubenstein Atrium at Lincoln Center\, 61 W 62nd St\, New Yor
 k\, NY\, United States
X-APPLE-STRUCTURED-LOCATION;VALUE=URI;X-ADDRESS=61 W 62nd St\, New York\, N
 Y\, United States;X-APPLE-RADIUS=100;X-TITLE=David Rubenstein Atrium at Li
 ncoln Center:geo:0,0
END:VEVENT
BEGIN:VTIMEZONE
TZID:America/New_York
X-LIC-LOCATION:America/New_York
BEGIN:DAYLIGHT
DTSTART:20230312T030000
TZOFFSETFROM:-0500
TZOFFSETTO:-0400
TZNAME:EDT
END:DAYLIGHT
END:VTIMEZONE
END:VCALENDAR