BEGIN:VCALENDAR
VERSION:2.0
PRODID:-//wp-events-plugin.com//7.2.3.1//EN
TZID:America/New_York
X-WR-TIMEZONE:America/New_York
BEGIN:VEVENT
UID:629@handson.org
DTSTART;TZID=America/New_York:20250315T140000
DTEND;TZID=America/New_York:20250315T140000
DTSTAMP:20250205T230442Z
URL:https://www.handson.org/events/dakar-2000/
SUMMARY:Dakar 2000
DESCRIPTION:Order tickets through TDF.org. You must be a member to order ti
 ckets.\n\n\n\nIn Senegal on the eve of Y2K\, an idealistic Peace Corps vol
 unteer survives a mysterious car accident. An imposing State Department op
 erative immediately takes command of the situation and his safety. Though 
 they couldn’t be more different\, they form an unlikely relationship. Bu
 t when it becomes clear that they both have secrets\, the volunteer is rop
 ed into a darker side of public service – one he can’t come back from.
  Unpredictable at every turn\, this world-premiere thriller was commission
 ed by Manhattan Theatre Club.\n\nWritten by Rajiv Joseph (Pulitzer Prize f
 inalist for Bengal Tiger at the Baghdad Zoo\; King James at MTC) and direc
 ted by May Adrales (Vietgone and Poor Yella Rednecks at MTC).
ATTACH;FMTTYPE=image/jpeg:https://www.handson.org/wp-content/uploads/2025/
 02/image-1.png
LOCATION:New York City Center Stage I\, 131 West 55th Street\, New York\, N
 Y\, United States
X-APPLE-STRUCTURED-LOCATION;VALUE=URI;X-ADDRESS=131 West 55th Street\, New 
 York\, NY\, United States;X-APPLE-RADIUS=100;X-TITLE=New York City Center 
 Stage I:geo:0,0
END:VEVENT
BEGIN:VTIMEZONE
TZID:America/New_York
X-LIC-LOCATION:America/New_York
BEGIN:DAYLIGHT
DTSTART:20250309T030000
TZOFFSETFROM:-0500
TZOFFSETTO:-0400
TZNAME:EDT
END:DAYLIGHT
END:VTIMEZONE
END:VCALENDAR