BEGIN:VCALENDAR
VERSION:2.0
PRODID:-//wp-events-plugin.com//7.2.3.1//EN
TZID:America/New_York
X-WR-TIMEZONE:America/New_York
BEGIN:VEVENT
UID:765@handson.org
DTSTART;TZID=America/New_York:20260226T190000
DTEND;TZID=America/New_York:20260226T210000
DTSTAMP:20260226T054148Z
URL:https://www.handson.org/events/compensation-3/
SUMMARY:Compensation
DESCRIPTION:The Africa Center will have a free screening of Michelle Banks'
 s film Compensation and then a conversation with the director. There will
  be an interpreter via zoom. Reservations are free.\n\nLink to reservation
  page: https://www.eventbrite.com/e/film-at-the-africa-center-presents-com
 pensation-tickets-1981585186636?aff=oddtdtcreator\n\n\n\nClick link for mo
 re information on the event: https://theafricacenter.org/programs/details/
 197/Film-at-The-Africa-Center-Presents-Compensation
ATTACH;FMTTYPE=image/jpeg:https://www.handson.org/wp-content/uploads/2026/
 02/IMG_6153.jpg
LOCATION:The Africa Center\, 1280 Fifth Avenue\, New York\, NY\, United Sta
 tes
X-APPLE-STRUCTURED-LOCATION;VALUE=URI;X-ADDRESS=1280 Fifth Avenue\, New Yor
 k\, NY\, United States;X-APPLE-RADIUS=100;X-TITLE=The Africa Center:geo:0,
 0
END:VEVENT
BEGIN:VTIMEZONE
TZID:America/New_York
X-LIC-LOCATION:America/New_York
BEGIN:STANDARD
DTSTART:20251102T010000
TZOFFSETFROM:-0400
TZOFFSETTO:-0500
TZNAME:EST
END:STANDARD
END:VTIMEZONE
END:VCALENDAR