BEGIN:VCALENDAR
VERSION:2.0
PRODID:-//wp-events-plugin.com//7.2.3.1//EN
TZID:America/New_York
X-WR-TIMEZONE:America/New_York
BEGIN:VEVENT
UID:161@handson.org
DTSTART;TZID=America/New_York:20221104T170000
DTEND;TZID=America/New_York:20221104T210000
DTSTAMP:20230801T140801Z
URL:https://www.handson.org/events/cheng-harrell-open-night-drawing-inspir
 ation-from-the-eveillard-gift/
SUMMARY:Cheng-Harrell Open Night: Drawing Inspiration from The Eveillard Gi
 ft
DESCRIPTION:\n\nTime: 5:00 PM - 9:00 PM\n\nTickets: Admission is free\, but
  capacity is limited. Click here to reserve free timed tickets to guarante
 e admission. Walk-ins are welcome\, but entry will be on a first-come\, fi
 rst-served basis.\n\nThe Open Nights series continues with a free evening 
 of after-hours museum and reading room access at Frick Madison. Inspired b
 y The Eveillard Gift—the fall exhibition showcasing the Frick’s most s
 ignificant acquisition of drawings and pastels—visitors will be invited 
 to sketch from works in the galleries or practice figure drawing with cost
 umed models. Art materials will be provided\, and artists of all abilities
  are welcome! The event will also include talks on the featured exhibition
 \, as well as on fashion and Van Dyck\, the diptych installation of works 
 by Olafur Eliasson and Claude Monet\, and the resources of the Frick Art R
 eference Library.\n\nLive music and complimentary refreshments by Joe Coff
 ee will be on offer all night long.\n\nASL interpretation will be provided
  in person for all the talks.\n--\nPlease note: Masks are strongly encoura
 ged for all visitors. Children under 10 are not admitted.
ATTACH;FMTTYPE=image/jpeg:https://www.handson.org/wp-content/uploads/2022/
 09/image.jpeg
LOCATION:Frick Madison\, 945 Madison Avenue\, New York\, NY\, United States
X-APPLE-STRUCTURED-LOCATION;VALUE=URI;X-ADDRESS=945 Madison Avenue\, New Yo
 rk\, NY\, United States;X-APPLE-RADIUS=100;X-TITLE=Frick Madison:geo:0,0
END:VEVENT
BEGIN:VTIMEZONE
TZID:America/New_York
X-LIC-LOCATION:America/New_York
BEGIN:DAYLIGHT
DTSTART:20220313T030000
TZOFFSETFROM:-0500
TZOFFSETTO:-0400
TZNAME:EDT
END:DAYLIGHT
END:VTIMEZONE
END:VCALENDAR