BEGIN:VCALENDAR
VERSION:2.0
PRODID:-//wp-events-plugin.com//7.2.3.1//EN
TZID:America/New_York
X-WR-TIMEZONE:America/New_York
BEGIN:VEVENT
UID:494@handson.org
DTSTART;TZID=America/New_York:20240710T200000
DTEND;TZID=America/New_York:20240710T220000
DTSTAMP:20240625T201604Z
URL:https://www.handson.org/events/cats-the-jellicle-ball/
SUMMARY:CATS "The Jellicle Ball"
DESCRIPTION:SOLD OUT\nAdditional show has been added on July 27th at 8pm - 
 link HERE.\n\nA radical reimagining of Andrew Lloyd Webber’s iconic danc
 e musical based on T. S. Eliot’s Old Possum’s Book of Practical Cats.\
 n\nInspired by the Ballroom culture that roared out of New York City over 
 50 years ago and still rages on runways around the world. Staged as a spec
 tacularly immersive competition by Zhailon Levingston (Tina: The Tina Turn
 er Musical\, Chicken &amp\; Biscuits) and PAC NYC Artistic Director Bill R
 auch (All the Way)\, with all new Ballroom and club beats\, runway ready c
 horeography\, and an edgy eleganza makeover that moves the action from jun
 kyard to runway.  Come one\, come all\, and celebrate the joyous transfo
 rmation of self at the heart of Cats and Ballroom culture itself.\n\nBy ar
 rangement with The Really Useful Group. Major support for Cats: “The Jel
 licle Ball” is provided by BNY Mellon.\nPhoto by Jai Lennard. Model\, Jo
 di Mugler.\nInterpreters: Jeniece Frazier\, Alberto Medero\, Gabriel Silva
 \nInterpreter Feed: Carllee James\nInterpreter Director: Alexandria Wailes
ATTACH;FMTTYPE=image/jpeg:https://www.handson.org/wp-content/uploads/2024/
 04/image-3.jpeg
CATEGORIES:_Hands On Shows,Perelman Performing Arts Center
LOCATION:Perelman Performing Arts Center\, 251 Fulton Street \, New York\, 
 NY\, United States
X-APPLE-STRUCTURED-LOCATION;VALUE=URI;X-ADDRESS=251 Fulton Street \, New Yo
 rk\, NY\, United States;X-APPLE-RADIUS=100;X-TITLE=Perelman Performing Art
 s Center:geo:0,0
END:VEVENT
BEGIN:VTIMEZONE
TZID:America/New_York
X-LIC-LOCATION:America/New_York
BEGIN:DAYLIGHT
DTSTART:20240310T030000
TZOFFSETFROM:-0500
TZOFFSETTO:-0400
TZNAME:EDT
END:DAYLIGHT
END:VTIMEZONE
END:VCALENDAR