BEGIN:VCALENDAR
VERSION:2.0
PRODID:-//wp-events-plugin.com//7.2.3.1//EN
TZID:America/New_York
X-WR-TIMEZONE:America/New_York
BEGIN:VEVENT
UID:676@handson.org
DTSTART;TZID=America/New_York:20250814T190000
DTEND;TZID=America/New_York:20250814T190000
DTSTAMP:20250716T012152Z
URL:https://www.handson.org/events/call-me-izzy/
SUMMARY:Call Me Izzy (Rescheduled)
DESCRIPTION:Order Tickets BelowIt was always her story to tell...Six-time
  Emmy® Award winner and Tony Award® nominee Jean Smart returns to Br
 oadway for 12 weeks only in a tour-de-force portrayal of a writer w
 hose words are her greatest gift\, her biggest secret\, and her only way
  out. Written by Jamie Wax and directed by Sarna Lapine\, CALL ME 
 IZZY is a can’t-miss theatrical event and a moving portrait of one wo
 man’s refusal to be silenced through her own sheer tenacity\, humor\, an
 d fiery imagination.Interpreter: Molly WilsonInterpreter Director: Joyc
 e HomRunning Time: 85 minutes\, no intermission		\n					
ATTACH;FMTTYPE=image/jpeg:https://www.handson.org/wp-content/uploads/2025/
 05/image-5.jpeg
CATEGORIES:_Hands On Shows
LOCATION:Studio 54\, 254 West 54th Street\, New York\, NY\, United States
X-APPLE-STRUCTURED-LOCATION;VALUE=URI;X-ADDRESS=254 West 54th Street\, New 
 York\, NY\, United States;X-APPLE-RADIUS=100;X-TITLE=Studio 54:geo:0,0
END:VEVENT
BEGIN:VTIMEZONE
TZID:America/New_York
X-LIC-LOCATION:America/New_York
BEGIN:DAYLIGHT
DTSTART:20250309T030000
TZOFFSETFROM:-0500
TZOFFSETTO:-0400
TZNAME:EDT
END:DAYLIGHT
END:VTIMEZONE
END:VCALENDAR