BEGIN:VCALENDAR
VERSION:2.0
PRODID:-//wp-events-plugin.com//7.2.3.1//EN
TZID:America/New_York
X-WR-TIMEZONE:America/New_York
BEGIN:VEVENT
UID:510@handson.org
DTSTART;TZID=America/New_York:20240620T190000
DTEND;TZID=America/New_York:20240620T210000
DTSTAMP:20240506T034259Z
URL:https://www.handson.org/events/brooklyn-talks-artists-on-giants/
SUMMARY:Brooklyn Talks: Artists on Giants
DESCRIPTION:Tickets are $30 and include after-hours access to Giants: Art
  from the Dean Collection of Swizz Beatz and Alicia Keys. Member tickets a
 re $18. Not a Member? Join today! Add a copy of the publication at check
 out.\n\nThis program will include ASL interpretation. For access needs\, e
 mail us at access@brooklynmuseum.org.\n\n\n\nIris and B. Gerald Cantor Au
 ditorium\, 3rd Floor\n\nCelebrate the release of Giants: Art from the Dean
  Collection of Swizz Beatz and Alicia Keys in a conversation with feature
 d artists Jarvis Boyland and Jamel Shabazz\, moderated by curator Kimberl
 i Gant. The publication illustrates 100 works by nearly 40 Black American\
 , African\, and African diasporic artists represented in the Dean Collecti
 on. Expanding upon the book’s intergenerational themes\, this conversati
 on dives into each artist’s practice and their relationship to collectin
 g.\n\n\n--\nImage caption and credit: Jamel Shabazz. Trio\, Brooklyn\, NY
 C\, 1980. Chromogenic print. The Dean Collection\, courtesy of Swizz Beatz
  and Alicia Keys. © Jamel Shabazz. (Photo: Glenn Steigelman)\n\n\n
ATTACH;FMTTYPE=image/jpeg:https://www.handson.org/wp-content/uploads/2024/
 05/Shabazz__Trio__Brooklyn__NYC_cropped_600_887.jpg
CATEGORIES:Brooklyn Museum
LOCATION:Brooklyn Museum\, 200 Eastern Parkway\, Brooklyn\, NY\, United Sta
 tes
X-APPLE-STRUCTURED-LOCATION;VALUE=URI;X-ADDRESS=200 Eastern Parkway\, Brook
 lyn\, NY\, United States;X-APPLE-RADIUS=100;X-TITLE=Brooklyn Museum:geo:0,
 0
END:VEVENT
BEGIN:VTIMEZONE
TZID:America/New_York
X-LIC-LOCATION:America/New_York
BEGIN:DAYLIGHT
DTSTART:20240310T030000
TZOFFSETFROM:-0500
TZOFFSETTO:-0400
TZNAME:EDT
END:DAYLIGHT
END:VTIMEZONE
END:VCALENDAR