BEGIN:VCALENDAR
VERSION:2.0
PRODID:-//wp-events-plugin.com//7.2.3.1//EN
TZID:America/New_York
X-WR-TIMEZONE:America/New_York
BEGIN:VEVENT
UID:363@handson.org
DTSTART;TZID=America/New_York:20231026T190000
DTEND;TZID=America/New_York:20231026T210000
DTSTAMP:20230825T183915Z
URL:https://www.handson.org/events/brooklyn-reads-none-of-the-above-with-t
 ravis-alabanza-and-alok-vaid-menon/
SUMMARY:Brooklyn Reads: None of the Above with Travis Alabanza and Alok Vai
 d-Menon
DESCRIPTION:Tickets are $16 ($14 for Members). Add a copy of None of the Ab
 ove: Reflections on Life Beyond the Binary at checkout.\n\nThis program wi
 ll include ASL interpretation. For access needs\, please email us at acces
 s@brooklynmuseum.org.\n\n\nIris and B. Gerald Cantor Auditorium\, 3rd Floo
 r\n\n\n\nCelebrate the New York release of None of the Above: Reflections 
 on Life Beyond the Binary with award-winning writer\, performer\, and thea
 ter maker Travis Alabanza. In this memoir\, Alabanza shares seven phrases 
 that have been directed at them throughout their life—some seemingly inn
 ocuous\, some loaded or violent\, some celebratory. A meditation on langua
 ge and doubt\, the book turns a mirror on society and ourselves.\n\nAlaban
 za is joined in conversation by Alok Vaid-Menon\, an internationally accla
 imed author\, poet\, and comedian who wrote the foreword for None of the A
 bove. The program culminates with a book signing with Alabanza.\n\n\n--\nM
 asks are required\, regardless of vaccination status. \n\nImage caption a
 nd credit: Travis Alabanza. (Photo: Griff Townsend\; courtesy of the Femin
 ist Press)
ATTACH;FMTTYPE=image/jpeg:https://www.handson.org/wp-content/uploads/2023/
 08/Travis_Alabanza_Credit_Griff_Townsend_600_870.jpg
CATEGORIES:Brooklyn Museum,Sign Language Interpreted
LOCATION:Brooklyn Museum\, 200 Eastern Parkway\, Brooklyn\, NY\, United Sta
 tes
X-APPLE-STRUCTURED-LOCATION;VALUE=URI;X-ADDRESS=200 Eastern Parkway\, Brook
 lyn\, NY\, United States;X-APPLE-RADIUS=100;X-TITLE=Brooklyn Museum:geo:0,
 0
END:VEVENT
BEGIN:VTIMEZONE
TZID:America/New_York
X-LIC-LOCATION:America/New_York
BEGIN:DAYLIGHT
DTSTART:20230312T030000
TZOFFSETFROM:-0500
TZOFFSETTO:-0400
TZNAME:EDT
END:DAYLIGHT
END:VTIMEZONE
END:VCALENDAR