BEGIN:VCALENDAR
VERSION:2.0
PRODID:-//wp-events-plugin.com//7.2.3.1//EN
TZID:America/New_York
X-WR-TIMEZONE:America/New_York
BEGIN:VEVENT
UID:156@handson.org
DTSTART;TZID=America/New_York:20230318T110000
DTEND;TZID=America/New_York:20230318T110000
DTSTAMP:20230801T141252Z
URL:https://www.handson.org/events/baobab/
SUMMARY:Baobab
DESCRIPTION:Please note: Priority is given to Deaf audience members for all
  reservation&nbsp\;requests.\nORDER TICKETS\n\n\nCome hear the djembe drum
 s dance and the ngoni’s strings sing as the griots tell you a tale. A ta
 le set long ago when the stars were still babies\, and the trees and anima
 ls talked. A tale passed down from generation to generation about a water-
 stealing sun and a baobab tree bearing an unexpected and unusual gift. Fea
 turing music from Mali and Senegal\, puppets large and small\, one naughty
  monkey and a witch with an itch to dance\,&nbsp\;Baobab&nbsp\;is a percus
 sion-filled fable about a boy’s heroic quest to save his village from dr
 ought.&nbsp\;For everyone 4-7.&nbsp\;\n\nWhat kind of show: Theater with p
 uppetry and live music\; artful and charming\n\nRunning time: 55 minutes n
 o intermission\n--\nMasks are required for everyone and must be worn at al
 l times\, completely covering the nose and mouth.&nbsp\;Vaccination Recomm
 ended.\n\nThe CDC recommends COVID-19 primary series vaccines for everyone
  ages 6 months and older\, and COVID-19 boosters for everyone ages 5 years
  and older\, if eligible. If you or a family member is experiencing any&nb
 sp\;Covid-19 symptoms\, please stay home and contact&nbsp\;New Victory&nbs
 p\;Ticket Services at 646.223.3010 to reschedule your performance.
ATTACH;FMTTYPE=image/jpeg:https://www.handson.org/wp-content/uploads/2022/
 09/image-1.png
CATEGORIES:The New Victory Theater
LOCATION:The New Victory Theater\, 209 West 42nd Street\, New York\, NY\, 1
 0036\, United States
X-APPLE-STRUCTURED-LOCATION;VALUE=URI;X-ADDRESS=209 West 42nd Street\, New 
 York\, NY\, 10036\, United States;X-APPLE-RADIUS=100;X-TITLE=The New Victo
 ry Theater:geo:0,0
END:VEVENT
BEGIN:VTIMEZONE
TZID:America/New_York
X-LIC-LOCATION:America/New_York
BEGIN:DAYLIGHT
DTSTART:20230312T030000
TZOFFSETFROM:-0500
TZOFFSETTO:-0400
TZNAME:EDT
END:DAYLIGHT
END:VTIMEZONE
END:VCALENDAR