BEGIN:VCALENDAR
VERSION:2.0
PRODID:-//wp-events-plugin.com//7.2.3.1//EN
TZID:America/New_York
X-WR-TIMEZONE:America/New_York
BEGIN:VEVENT
UID:761@handson.org
DTSTART;TZID=America/New_York:20260329T130000
DTEND;TZID=America/New_York:20260329T160000
DTSTAMP:20260222T033029Z
URL:https://www.handson.org/events/asl-tour-nda-emerging-designers/
SUMMARY:ASL TOUR | NDA EMERGING DESIGNERS
DESCRIPTION:Registration is required. The ASL Tour and subsequent program
  are free for visitors who are Deaf or hard-of-hearing and their companion
 s. \n\nLearn more about upcoming ASL Tour programs.  \n\nThe ASL Tour
  is exclusive to visitors who are Deaf\, hard of hearing\, and their compa
 nions. \n\n\n\nJoin us for an American Sign Language (ASL) Tour exploring
  the National Design Awards with a special focus on the Emerging Designer 
 category.\n\nLed by a Deaf educator\, this program will dive into the hist
 ory of the National Design Awards and what it means to be an “Emerging
  Designer.” Learn about past awardees and explore how design impacts
  our everyday lives. \n\nFollowing the talk\, participants will atten
 d a lecture with Nu Goteh—winner of the 2025 National Design Award f
 or Emerging Designer. Goteh will present his renowned work that spans hi
 s community-centered research\, branding\, publishing\, and social practic
 e. Goteh will also be in conversation with Salome Asega to discuss d
 esign’s ability to mirror and shape the world we live in. Learn more a
 bout the lecture.  
ATTACH;FMTTYPE=image/jpeg:https://www.handson.org/wp-content/uploads/2026/
 02/Nu-Goteh-WP-Banner_3.jpg
LOCATION:Cooper Hewitt\, 2 East 91st Street\, New York\, NY\, United States
X-APPLE-STRUCTURED-LOCATION;VALUE=URI;X-ADDRESS=2 East 91st Street\, New Yo
 rk\, NY\, United States;X-APPLE-RADIUS=100;X-TITLE=Cooper Hewitt:geo:0,0
END:VEVENT
BEGIN:VTIMEZONE
TZID:America/New_York
X-LIC-LOCATION:America/New_York
BEGIN:DAYLIGHT
DTSTART:20260308T030000
TZOFFSETFROM:-0500
TZOFFSETTO:-0400
TZNAME:EDT
END:DAYLIGHT
END:VTIMEZONE
END:VCALENDAR