BEGIN:VCALENDAR
VERSION:2.0
PRODID:-//wp-events-plugin.com//7.2.3.1//EN
TZID:America/New_York
X-WR-TIMEZONE:America/New_York
BEGIN:VEVENT
UID:403@handson.org
DTSTART;TZID=America/New_York:20231014T110000
DTEND;TZID=America/New_York:20231014T130000
DTSTAMP:20231008T214645Z
URL:https://www.handson.org/events/asl-tour-africa-fashion/
SUMMARY:ASL Tour: Africa Fashion
DESCRIPTION:Free\; registration is required.\nThis tour is designed for the
  d/Deaf community and is in ASL only\, without voice interpretation. If yo
 u are an ASL student\, email access@brooklynmuseum.org for more informatio
 n about tours for those at level 3 or above.\n\n\nMeet in Rubin Pavillion\
 , 1st Floor\nVisitors from the d/Deaf community are invited to experience 
 our special exhibition Africa Fashion in an American Sign Language (ASL) t
 our\, led by a Deaf teaching artist. After a brief meet-and-greet\, encoun
 ter a dazzling array of works by African fashion designers\, musicians\, a
 nd artists from the 1950s to today.\n\nQuestions? Contact us at access@bro
 oklynmuseum.org.\n--\nPhoto by Lakin Ogunbanwo\, image courtesy of Nataal
ATTACH;FMTTYPE=image/jpeg:https://www.handson.org/wp-content/uploads/2023/
 10/image-1.jpeg
CATEGORIES:Brooklyn Museum
LOCATION:Brooklyn Museum\, 200 Eastern Parkway\, Brooklyn\, NY\, United Sta
 tes
X-APPLE-STRUCTURED-LOCATION;VALUE=URI;X-ADDRESS=200 Eastern Parkway\, Brook
 lyn\, NY\, United States;X-APPLE-RADIUS=100;X-TITLE=Brooklyn Museum:geo:0,
 0
END:VEVENT
BEGIN:VTIMEZONE
TZID:America/New_York
X-LIC-LOCATION:America/New_York
BEGIN:DAYLIGHT
DTSTART:20230312T030000
TZOFFSETFROM:-0500
TZOFFSETTO:-0400
TZNAME:EDT
END:DAYLIGHT
END:VTIMEZONE
END:VCALENDAR