BEGIN:VCALENDAR
VERSION:2.0
PRODID:-//wp-events-plugin.com//7.2.3.1//EN
TZID:America/New_York
X-WR-TIMEZONE:America/New_York
BEGIN:VEVENT
UID:766@handson.org
DTSTART;TZID=America/New_York:20260312T180000
DTEND;TZID=America/New_York:20260312T193000
DTSTAMP:20260227T181207Z
URL:https://www.handson.org/events/art-of-freedom-the-life-work-of-arthur-
 szyk/
SUMMARY:Art of Freedom: The Life & Work of Arthur Szyk
DESCRIPTION:Please register using the registration link. The event is free 
 for attendees\, and light refreshments will be served afterward.\n\n\n\nTh
 e Museum of Jewish Heritage is hosting a free curator-led ASL tour of our 
 newest exhibition\, Art of Freedom: The Life &amp\; Work of Arthur Szyk. 
 \n\nThe exhibition has received wonderful press coverage:\n\n 	\nNew York 
 Times\n\n 	\nJTA\n\n 	\nThe Forward\n\n\nYou can also find additional deta
 ils on their website.
ATTACH;FMTTYPE=image/jpeg:https://www.handson.org/wp-content/uploads/2026/
 02/Screen-Shot-2026-02-27-at-1.11.03-PM.png
LOCATION:Museum of Jewish Heritage\, 36 Battery Place\, New York\, NY\, Uni
 ted States
X-APPLE-STRUCTURED-LOCATION;VALUE=URI;X-ADDRESS=36 Battery Place\, New York
 \, NY\, United States;X-APPLE-RADIUS=100;X-TITLE=Museum of Jewish Heritage
 :geo:0,0
END:VEVENT
BEGIN:VTIMEZONE
TZID:America/New_York
X-LIC-LOCATION:America/New_York
BEGIN:DAYLIGHT
DTSTART:20260308T030000
TZOFFSETFROM:-0500
TZOFFSETTO:-0400
TZNAME:EDT
END:DAYLIGHT
END:VTIMEZONE
END:VCALENDAR