BEGIN:VCALENDAR
VERSION:2.0
PRODID:-//wp-events-plugin.com//7.2.3.1//EN
TZID:America/New_York
X-WR-TIMEZONE:America/New_York
BEGIN:VEVENT
UID:121@handson.org
DTSTART;TZID=America/New_York:20220731T140000
DTEND;TZID=America/New_York:20220731T160000
DTSTAMP:20230801T132054Z
URL:https://www.handson.org/events/american-sign-language-tour-with-joyce-
 hom/
SUMMARY:American Sign Language Tour with Joyce Hom
DESCRIPTION:\n\nTime: 2:00 PM - 4:00 PM\n\nTickets: The program is free wit
 h advanced registration. Please sign up here.\n\nParticipants from the Dea
 f and Hard of Hearing community are invited to explore Queens Museum with 
 museum educator Joyce Hom. This program will feature an introduction to th
 e Panorama of the City of New York\, along with current exhibitions by Chr
 istine Sun Kim\, Stephanie Dinkins\, and Suzanne Lacy\, highlighting their
  work related to social justice\, community\, and inequality/ justice.\n\n
 About Joyce Hom\nJoyce Hom is an museum educator working within Access Pro
 grams at several museums in New York City\, and is the ASL Programs Coordi
 nator at The Jewish Museum. She received her BFA in Illustration from Sava
 nnah College of Art and Design in Georgia.\n--\nThis project was made poss
 ible in part by the Institute of Museum and Library Services.\n\nImage: 
 “Time Owes Me Rest Again”\, 2022\, Mural\, Approximately 35 x 100 ft. 
 Photo: Hai Zhang.
ATTACH;FMTTYPE=image/jpeg:https://www.handson.org/wp-content/uploads/2022/
 07/christinesunkim-scaled.jpg
CATEGORIES:Queens Museum
LOCATION:Queens Museum\, Flushing Meadows Corona Park\, Queens\, NY\, Unite
 d States
X-APPLE-STRUCTURED-LOCATION;VALUE=URI;X-ADDRESS=Flushing Meadows Corona Par
 k\, Queens\, NY\, United States;X-APPLE-RADIUS=100;X-TITLE=Queens Museum:g
 eo:0,0
END:VEVENT
BEGIN:VTIMEZONE
TZID:America/New_York
X-LIC-LOCATION:America/New_York
BEGIN:DAYLIGHT
DTSTART:20220313T030000
TZOFFSETFROM:-0500
TZOFFSETTO:-0400
TZNAME:EDT
END:DAYLIGHT
END:VTIMEZONE
END:VCALENDAR