BEGIN:VCALENDAR
VERSION:2.0
PRODID:-//wp-events-plugin.com//7.2.3.1//EN
TZID:America/New_York
X-WR-TIMEZONE:America/New_York
BEGIN:VEVENT
UID:583@handson.org
DTSTART;TZID=America/New_York:20241103T190000
DTEND;TZID=America/New_York:20241103T190000
DTSTAMP:20241002T203101Z
URL:https://www.handson.org/events/2562/
SUMMARY:Jersey Boys
DESCRIPTION:Purchase Tickets\n\n\n\nWith phenomenal music\, memorable chara
 cters\, and great storytelling\, Jersey Boys follows the fascinating evo
 lution of four blue-collar kids who became one of the greatest successes i
 n pop-music history. This Tony Award–winning Best Musical takes you behi
 nd the music of Frankie Valli and The Four Seasons to discover the secret 
 of a 40-year friendship as the foursome work their way from the streets of
  New Jersey to the heights of stardom. Witness electrifying performances o
 f chart-topping hits including "Sherry\," "Big Girls Don't Cry\," "Can't T
 ake My Eyes Off You\," "Dawn\," and "My Eyes Adored You."
ATTACH;FMTTYPE=image/jpeg:https://www.handson.org/wp-content/uploads/2024/
 10/image.jpeg
LOCATION:Paper Mill Playhouse\, 22 Brookside Drive\, Millburn\, NJ\, United
  States
X-APPLE-STRUCTURED-LOCATION;VALUE=URI;X-ADDRESS=22 Brookside Drive\, Millbu
 rn\, NJ\, United States;X-APPLE-RADIUS=100;X-TITLE=Paper Mill Playhouse:ge
 o:0,0
END:VEVENT
BEGIN:VTIMEZONE
TZID:America/New_York
X-LIC-LOCATION:America/New_York
BEGIN:STANDARD
DTSTART:20241103T010000
TZOFFSETFROM:-0400
TZOFFSETTO:-0500
TZNAME:EST
END:STANDARD
END:VTIMEZONE
END:VCALENDAR