BEGIN:VCALENDAR
VERSION:2.0
PRODID:-//wp-events-plugin.com//7.2.3.1//EN
TZID:America/New_York
X-WR-TIMEZONE:America/New_York
BEGIN:VEVENT
UID:673@handson.org
DTSTART;TZID=America/New_York:20250927T100000
DTEND;TZID=America/New_York:20250927T170000
DTSTAMP:20250516T182103Z
URL:https://www.handson.org/events/16th-big-apple-asl-festival/
SUMMARY:16th Big Apple ASL Festival
DESCRIPTION:\n\n\n\n\n\n\n\n\n\nFree admission. Right next to St. George Fe
 rry Terminal.\n\n\n\nVisit over 60 indoor booth tables...this event site i
 s nearest to a new NYC's only outdoor shopping outlets and the Staten Isla
 nd September 11th memorial site.\n\nWelcome over 1\,000 Deaf\, Deaf Blind\
 , Hard of Hearing\, New Signers\, and everyone locally including New Jerse
 y\, Pennsylvania and Long Island in attendance as expected. Rain or shine.
 \n\n\nDeaf Music Ensemble will perform there.\nATTENTION for Small Busines
 s Vendors: Early booth reservation for a booth table including 2 chairs\, 
 electricity and wifi is 75 dollars. When deadline passes on June 30th\, it
  will be $100.\n\n\nWant a booth table for your organization or for your s
 ervice business? We still do have few booth tables available. Email here f
 or a copy of the special price booth registration form.\n\n\n\n\n\n\n\n\n\
 n
ATTACH;FMTTYPE=image/jpeg:https://www.handson.org/wp-content/uploads/2025/
 05/480563057_10161519338361279_708153606855200961_n.jpg
LOCATION:SIUH Community Park\, 75 Richmond Terrace\, Staten Island\, NY\, U
 nited States
X-APPLE-STRUCTURED-LOCATION;VALUE=URI;X-ADDRESS=75 Richmond Terrace\, State
 n Island\, NY\, United States;X-APPLE-RADIUS=100;X-TITLE=SIUH Community Pa
 rk:geo:0,0
END:VEVENT
BEGIN:VTIMEZONE
TZID:America/New_York
X-LIC-LOCATION:America/New_York
BEGIN:DAYLIGHT
DTSTART:20250309T030000
TZOFFSETFROM:-0500
TZOFFSETTO:-0400
TZNAME:EDT
END:DAYLIGHT
END:VTIMEZONE
END:VCALENDAR